BEGIN:VCALENDAR
VERSION:2.0
PRODID:-//DumpsterListers - ECPv4.9.1.1//NONSGML v1.0//EN
CALSCALE:GREGORIAN
METHOD:PUBLISH
X-WR-CALNAME:DumpsterListers
X-ORIGINAL-URL:https://dumpsterlisters.t-u-h.nl
X-WR-CALDESC:Events for DumpsterListers
BEGIN:VEVENT
DTSTART;VALUE=DATE:20191101
DTEND;VALUE=DATE:20191102
DTSTAMP:20260424T104451
CREATED:20190529T140303Z
LAST-MODIFIED:20190529T161014Z
UID:189-1572566400-1572652799@dumpsterlisters.t-u-h.nl
SUMMARY:3 day cruise from Vancouver to los angeles
DESCRIPTION:We are going on the Star Princess and it starts Friday\, Nov. 1st to Sunday Nov. 6th. We would like to invite others to join. The price is around 300 to 500 a person depending on type of room. If you have questions or want to  know more about it. Contact me at Missyann314@yahoo.com. \n  \nThanks \n
URL:https://dumpsterlisters.t-u-h.nl/event/3-day-cruise-from-vancouver-to-los-angeles/
ATTACH;FMTTYPE=image/jpeg:https://dumpsterlisters.t-u-h.nl/wp-content/uploads/2019/05/PrincessCruiseShip.jpg
ORGANIZER;CN="Melissa":MAILTO:Missyann314@yahoo.com.
END:VEVENT
END:VCALENDAR