BEGIN:VCALENDAR
VERSION:2.0
PRODID:-//DumpsterListers - ECPv4.9.1.1//NONSGML v1.0//EN
CALSCALE:GREGORIAN
METHOD:PUBLISH
X-WR-CALNAME:DumpsterListers
X-ORIGINAL-URL:https://dumpsterlisters.t-u-h.nl
X-WR-CALDESC:Events for DumpsterListers
BEGIN:VEVENT
DTSTART;TZID=UTC+0:20190716T080000
DTEND;TZID=UTC+0:20190716T170000
DTSTAMP:20260424T165911
CREATED:20190716T194844Z
LAST-MODIFIED:20190716T202431Z
UID:269-1563264000-1563296400@dumpsterlisters.t-u-h.nl
SUMMARY:Be A Bike Messenger
DESCRIPTION:Be a bike messenger for a day. \n
URL:https://dumpsterlisters.t-u-h.nl/event/be-a-bike-messenger/
ATTACH;FMTTYPE=image/jpeg:https://dumpsterlisters.t-u-h.nl/wp-content/uploads/2019/07/messengers0905.jpg
END:VEVENT
END:VCALENDAR