BEGIN:VCALENDAR
VERSION:2.0
PRODID:-//DumpsterListers - ECPv4.9.1.1//NONSGML v1.0//EN
CALSCALE:GREGORIAN
METHOD:PUBLISH
X-WR-CALNAME:DumpsterListers
X-ORIGINAL-URL:https://dumpsterlisters.t-u-h.nl
X-WR-CALDESC:Events for DumpsterListers
BEGIN:VEVENT
DTSTART;TZID=UTC+0:20190706T080000
DTEND;TZID=UTC+0:20190707T170000
DTSTAMP:20260424T185416
CREATED:20190614T015313Z
LAST-MODIFIED:20190614T015503Z
UID:234-1562400000-1562518800@dumpsterlisters.t-u-h.nl
SUMMARY:Colorado
DESCRIPTION:Before you are gone\, see the beauty of Colorado: \nThe Crystal Mill\, near Marble\,  on the Crystal River off Forest Service Rd 314. Built in 1892 to produce pressurized air for the local silver mines. \nThe Royal Gorge\, near Cannon City on the Arkansas River. Rafting or ziplining. \nSand Dunes National Park.  Great Sand Dunes in the San Luis Valley flanked by the Sangre de Cristo Mountain Range. \nHanging Lake — lush waters fed straight by springs above the falls in Glenwood Canyon\, near Glenwood Springs \nBridal Veil Falls — a drop of 365 feet – one foot per day in a year.  A powerhouse on top provides 25% of the hydroelectric power for the town of Tellurite.  One of the oldest AC generators still in operation. \nTurquoise water flows through red creek bed over multiple waterfalls 120 degrees magnetic from the town of Sawtooth \n
URL:https://dumpsterlisters.t-u-h.nl/event/colorado/
ATTACH;FMTTYPE=image/jpeg:https://dumpsterlisters.t-u-h.nl/wp-content/uploads/2019/06/BridalVeilFallsColorado.jpg
END:VEVENT
END:VCALENDAR