BEGIN:VCALENDAR
VERSION:2.0
PRODID:-//DumpsterListers - ECPv4.9.1.1//NONSGML v1.0//EN
CALSCALE:GREGORIAN
METHOD:PUBLISH
X-WR-CALNAME:DumpsterListers
X-ORIGINAL-URL:https://dumpsterlisters.t-u-h.nl
X-WR-CALDESC:Events for DumpsterListers
BEGIN:VEVENT
DTSTART;TZID=UTC+0:20190514T080000
DTEND;TZID=UTC+0:20190514T170000
DTSTAMP:20260424T234446
CREATED:20190514T161402Z
LAST-MODIFIED:20190514T162310Z
UID:57-1557820800-1557853200@dumpsterlisters.t-u-h.nl
SUMMARY:Kayaking
DESCRIPTION:Let’s go Kayaking. \n
URL:https://dumpsterlisters.t-u-h.nl/event/kayaking/
END:VEVENT
END:VCALENDAR