BEGIN:VCALENDAR
VERSION:2.0
PRODID:-//DumpsterListers - ECPv4.9.1.1//NONSGML v1.0//EN
CALSCALE:GREGORIAN
METHOD:PUBLISH
X-WR-CALNAME:DumpsterListers
X-ORIGINAL-URL:https://dumpsterlisters.t-u-h.nl
X-WR-CALDESC:Events for DumpsterListers
BEGIN:VEVENT
DTSTART;TZID=UTC+0:20191012T080000
DTEND;TZID=UTC+0:20191112T170000
DTSTAMP:20260424T115625
CREATED:20191020T025251Z
LAST-MODIFIED:20191020T025251Z
UID:310-1570867200-1573578000@dumpsterlisters.t-u-h.nl
SUMMARY:Ride A Motorcycle
DESCRIPTION:Ok\, this ones not fair — I already rode one as a teenager.  But it is in my list to ride again.  So let’s do it! \n
URL:https://dumpsterlisters.t-u-h.nl/event/ride-a-motorcycle/
ATTACH;FMTTYPE=image/jpeg:https://dumpsterlisters.t-u-h.nl/wp-content/uploads/2019/10/00707_7OoOPATxCxl_600x450.jpg
END:VEVENT
END:VCALENDAR