BEGIN:VCALENDAR
VERSION:2.0
PRODID:-//DumpsterListers - ECPv4.9.1.1//NONSGML v1.0//EN
CALSCALE:GREGORIAN
METHOD:PUBLISH
X-WR-CALNAME:DumpsterListers
X-ORIGINAL-URL:https://dumpsterlisters.t-u-h.nl
X-WR-CALDESC:Events for DumpsterListers
BEGIN:VEVENT
DTSTART;TZID=UTC+0:20190615T120000
DTEND;TZID=UTC+0:20190615T170000
DTSTAMP:20260424T203840
CREATED:20190615T143608Z
LAST-MODIFIED:20190615T144448Z
UID:238-1560600000-1560618000@dumpsterlisters.t-u-h.nl
SUMMARY:River Kayaking
DESCRIPTION:Lets float down the river in kayaks.  Not whitewater\, just an easy paddle. \n
URL:https://dumpsterlisters.t-u-h.nl/event/river-kayaking/
LOCATION:Snoqualmie River\, Carnation\, United States
ATTACH;FMTTYPE=image/jpeg:https://dumpsterlisters.t-u-h.nl/wp-content/uploads/2019/06/RiverKayaking-1.jpg
END:VEVENT
END:VCALENDAR