BEGIN:VCALENDAR
VERSION:2.0
PRODID:-//DumpsterListers - ECPv4.9.1.1//NONSGML v1.0//EN
CALSCALE:GREGORIAN
METHOD:PUBLISH
X-WR-CALNAME:DumpsterListers
X-ORIGINAL-URL:https://dumpsterlisters.t-u-h.nl
X-WR-CALDESC:Events for DumpsterListers
BEGIN:VEVENT
DTSTART;TZID=UTC+0:20190705T080000
DTEND;TZID=UTC+0:20190705T170000
DTSTAMP:20260424T185136
CREATED:20190604T174607Z
LAST-MODIFIED:20190604T174649Z
UID:204-1562313600-1562346000@dumpsterlisters.t-u-h.nl
SUMMARY:Road Trip Through Time
DESCRIPTION:An All-American Road\nThis is 122.863 miles (to be exact) of pure driving bliss. Welcome to Utah’s Scenic Byway 12\, also known as “A Journey Through Time Scenic Byway.” What’s more\, this stretch of pavement is also designated an All-American Road. Only one-third of America’s scenic byways get this distinction\, and it’s given because these roads offer unique features that you can’t find elsewhere making these byways [ugh] tourist destinations unto themselves. \n  \nThis trip in conjunction with Drive The Columbia River\, tbd. \n
URL:https://dumpsterlisters.t-u-h.nl/event/road-trip-through-time/
ATTACH;FMTTYPE=image/png:https://dumpsterlisters.t-u-h.nl/wp-content/uploads/2019/06/utah_canyonlands_noblackframe.png
END:VEVENT
END:VCALENDAR