BEGIN:VCALENDAR
VERSION:2.0
PRODID:-//DumpsterListers - ECPv4.9.1.1//NONSGML v1.0//EN
CALSCALE:GREGORIAN
METHOD:PUBLISH
X-WR-CALNAME:DumpsterListers
X-ORIGINAL-URL:https://dumpsterlisters.t-u-h.nl
X-WR-CALDESC:Events for DumpsterListers
BEGIN:VEVENT
DTSTART;TZID=UTC-7:20190604T173000
DTEND;TZID=UTC-7:20190604T190000
DTSTAMP:20260424T204120
CREATED:20190604T223452Z
LAST-MODIFIED:20190604T224044Z
UID:207-1559669400-1559674800@dumpsterlisters.t-u-h.nl
SUMMARY:Share Your Language Face To Face
DESCRIPTION:Let’s meet face to face for a language exchange.  I know English\, and would like to learn more Spanish. \n
URL:https://dumpsterlisters.t-u-h.nl/event/share-your-language-face-to-face/
LOCATION:Jimmy’s On Broadway\, 1100 Broadway\, Seattle\, 98122\, United States
ATTACH;FMTTYPE=image/jpeg:https://dumpsterlisters.t-u-h.nl/wp-content/uploads/2019/06/LanguageExchangeMeetup.jpg
END:VEVENT
END:VCALENDAR