BEGIN:VCALENDAR
VERSION:2.0
PRODID:-//DumpsterListers - ECPv4.9.1.1//NONSGML v1.0//EN
CALSCALE:GREGORIAN
METHOD:PUBLISH
X-WR-CALNAME:DumpsterListers
X-ORIGINAL-URL:https://dumpsterlisters.t-u-h.nl
X-WR-CALDESC:Events for DumpsterListers
BEGIN:VEVENT
DTSTART;TZID=UTC+0:20190607T190000
DTEND;TZID=UTC+0:20190607T200000
DTSTAMP:20260424T204136
CREATED:20190607T015418Z
LAST-MODIFIED:20190607T015611Z
UID:224-1559934000-1559937600@dumpsterlisters.t-u-h.nl
SUMMARY:Share Your Language On Skype
DESCRIPTION:Talk on Skype to someone in another country and exchange language practice. \nI will talk to Carmen in Monterey\, MX and help her with English.  She will help me with Spanish. \n
URL:https://dumpsterlisters.t-u-h.nl/event/share-your-language-on-skype/
ATTACH;FMTTYPE=image/png:https://dumpsterlisters.t-u-h.nl/wp-content/uploads/2019/06/skype-logo-open-graph.png
END:VEVENT
END:VCALENDAR