BEGIN:VCALENDAR
VERSION:2.0
PRODID:-//DumpsterListers - ECPv4.9.1.1//NONSGML v1.0//EN
CALSCALE:GREGORIAN
METHOD:PUBLISH
X-WR-CALNAME:DumpsterListers
X-ORIGINAL-URL:https://dumpsterlisters.t-u-h.nl
X-WR-CALDESC:Events for DumpsterListers
BEGIN:VEVENT
DTSTART;TZID=UTC+0:20190702T080000
DTEND;TZID=UTC+0:20190702T170000
DTSTAMP:20260424T203942
CREATED:20190702T010315Z
LAST-MODIFIED:20190702T010315Z
UID:255-1562054400-1562086800@dumpsterlisters.t-u-h.nl
SUMMARY:Snake River
DESCRIPTION:
URL:https://dumpsterlisters.t-u-h.nl/event/snake-river/
END:VEVENT
END:VCALENDAR