BEGIN:VCALENDAR
VERSION:2.0
PRODID:-//DumpsterListers - ECPv4.9.1.1//NONSGML v1.0//EN
CALSCALE:GREGORIAN
METHOD:PUBLISH
X-WR-CALNAME:DumpsterListers
X-ORIGINAL-URL:https://dumpsterlisters.t-u-h.nl
X-WR-CALDESC:Events for DumpsterListers
BEGIN:VEVENT
DTSTART;TZID=UTC+0:20190915T120000
DTEND;TZID=UTC+0:20190915T170000
DTSTAMP:20260424T152544
CREATED:20190915T183556Z
LAST-MODIFIED:20190915T192538Z
UID:278-1568548800-1568566800@dumpsterlisters.t-u-h.nl
SUMMARY:Swimming In The Rain
DESCRIPTION:Let’s swim in the heated outdoor Coleman pool in the rain. \n
URL:https://dumpsterlisters.t-u-h.nl/event/swimmig-in-the-rain/
ATTACH;FMTTYPE=image/jpeg:https://dumpsterlisters.t-u-h.nl/wp-content/uploads/2019/09/downloadfile.jpeg
END:VEVENT
END:VCALENDAR