BEGIN:VCALENDAR
VERSION:2.0
PRODID:-//DumpsterListers - ECPv4.9.1.1//NONSGML v1.0//EN
CALSCALE:GREGORIAN
METHOD:PUBLISH
X-WR-CALNAME:DumpsterListers
X-ORIGINAL-URL:https://dumpsterlisters.t-u-h.nl
X-WR-CALDESC:Events for DumpsterListers
BEGIN:VEVENT
DTSTART;TZID=UTC+0:20190713T080000
DTEND;TZID=UTC+0:20190714T210000
DTSTAMP:20260424T184134
CREATED:20190606T023431Z
LAST-MODIFIED:20190606T155816Z
UID:218-1563004800-1563138000@dumpsterlisters.t-u-h.nl
SUMMARY:Throw Mama On The Train
DESCRIPTION:Take mom by train back to her country of origin\, visit\, and return. \nShe might feel like she is being thrown on the train\, but she is being celebrated\, bolstered and reminded of her roots.  In 1932\,  Canada was  just starting to shift from primary industry (farming\, fishing\, mining and logging) to manufacturing. Mom was born and raised on a farm\, along with 11 other brothers and sisters.  She passed on her individualism to me\, although not in its agrarian form.  And she may be succeeding in passing on the importance of family\, tarnished as it has been. \n
URL:https://dumpsterlisters.t-u-h.nl/event/throw-mama-on-the-train/
LOCATION:AMTRAK
ATTACH;FMTTYPE=image/jpeg:https://dumpsterlisters.t-u-h.nl/wp-content/uploads/2019/06/Train.jpg
END:VEVENT
END:VCALENDAR