BEGIN:VCALENDAR
VERSION:2.0
PRODID:-//DumpsterListers - ECPv4.9.1.1//NONSGML v1.0//EN
CALSCALE:GREGORIAN
METHOD:PUBLISH
X-WR-CALNAME:DumpsterListers
X-ORIGINAL-URL:https://dumpsterlisters.t-u-h.nl
X-WR-CALDESC:Events for DumpsterListers
BEGIN:VEVENT
DTSTART;TZID=UTC+0:20191031T180000
DTEND;TZID=UTC+0:20191031T193000
DTSTAMP:20260424T135330
CREATED:20191101T004149Z
LAST-MODIFIED:20191101T004231Z
UID:315-1572544800-1572550200@dumpsterlisters.t-u-h.nl
SUMMARY:Trick-or-Treat For Beer
DESCRIPTION:Lets go door to door asking for beer. \n
URL:https://dumpsterlisters.t-u-h.nl/event/trick-or-treat-for-beer/
ATTACH;FMTTYPE=image/jpeg:https://dumpsterlisters.t-u-h.nl/wp-content/uploads/2019/11/TREAT_BEER.jpg
END:VEVENT
END:VCALENDAR