BEGIN:VCALENDAR
VERSION:2.0
PRODID:-//DumpsterListers - ECPv4.9.1.1//NONSGML v1.0//EN
CALSCALE:GREGORIAN
METHOD:PUBLISH
X-WR-CALNAME:DumpsterListers
X-ORIGINAL-URL:https://dumpsterlisters.t-u-h.nl
X-WR-CALDESC:Events for DumpsterListers
BEGIN:VEVENT
DTSTART;TZID=UTC+0:20190622T090000
DTEND;TZID=UTC+0:20190622T130000
DTSTAMP:20260424T204211
CREATED:20190623T174909Z
LAST-MODIFIED:20190623T174909Z
UID:244-1561194000-1561208400@dumpsterlisters.t-u-h.nl
SUMMARY:Volunteer To Clean Up Something
DESCRIPTION:Let’s spend some time improving something we care about.  For example\, the local waterways.  Puget Sound Keeper regularly helps keep Puget Sound Clean.  Today they are cleaning up the waterways near the Arboretum. \n
URL:https://dumpsterlisters.t-u-h.nl/event/volunteer-to-clean-up-something/
ATTACH;FMTTYPE=image/jpeg:https://dumpsterlisters.t-u-h.nl/wp-content/uploads/2019/06/PugetSoundKeeper.jpg
END:VEVENT
END:VCALENDAR