BEGIN:VCALENDAR
VERSION:2.0
PRODID:-//DumpsterListers - ECPv4.9.1.1//NONSGML v1.0//EN
CALSCALE:GREGORIAN
METHOD:PUBLISH
X-WR-CALNAME:DumpsterListers
X-ORIGINAL-URL:https://dumpsterlisters.t-u-h.nl
X-WR-CALDESC:Events for DumpsterListers
BEGIN:VEVENT
DTSTART;VALUE=DATE:20190918
DTEND;VALUE=DATE:20190919
DTSTAMP:20260424T152320
CREATED:20190918T013603Z
LAST-MODIFIED:20190918T030713Z
UID:290-1568764800-1568851199@dumpsterlisters.t-u-h.nl
SUMMARY:Work An Assembly Line
DESCRIPTION:Let’s bottle some honey-wine at Sky River Mead. \n
URL:https://dumpsterlisters.t-u-h.nl/event/work-an-assembly-line/
ATTACH;FMTTYPE=image/jpeg:https://dumpsterlisters.t-u-h.nl/wp-content/uploads/2019/09/SignatureMobileBottlers-1.jpg
END:VEVENT
END:VCALENDAR